BEGIN:VCALENDAR
VERSION:2.0
PRODID:Cidade Educadora 
X-WR-CALNAME:Cidade Educadora 
X-WR-TIMEZONE:Europe/Lisbon
X-PUBLISHED-TTL:P1W
BEGIN:VTIMEZONE
TZID:Europe/Lisbon
X-LIC-LOCATION:Europe/Lisbon
END:VTIMEZONE
BEGIN:VEVENT
UID:69eaa0c0c6545
DTSTART;VALUE=DATE:20221130
SEQUENCE:0
TRANSP:OPAQUE
DTEND;VALUE=DATE:20221201
SUMMARY:Cidade Educadora 
CLASS:PUBLIC
DESCRIPTION:No próximo dia 30 de novembro comemoramos a sétima edição d
 o Dia Internacional da Cidade Educadora\, evento a que já se juntaram mai
 s&nbsp\;de 340 municípios de 20 países\, e que este ano tem o slogan A C
 idade Educadora\, cidade de paz e oportunidades.&nbsp\;No ano passado lan
 çámos o desafio a todos os parceiros do CLASAZ\, tendo sido com muito ag
 rado que recebemos a participação da comunidade escolar e das instituiç
 ões Centro Social Paroquial de Azambuja\, Centro Social Paroquial de Avei
 ras de Baixo e Centro Social Paroquial de Aveiras de Cima (podem ver aqui:
  Município comemora Dia Internacional das Cidades Educadoras - Câmara Mu
 nicipal de Azambuja (cm-azambuja.pt) ).&nbsp\;Assim\, à semelhança do an
 o passado\, voltamos a lançar o desafio a todos os parceiros\, sempre com
  o pressuposto&nbsp\;de promover o diálogo\, o sentido crítico e a cidad
 ania junto da comunidade local\, bem como de mobilizar todos os agentes ed
 ucativos e sociais&nbsp\;para que unam esforços para promover a paz\, a c
 onvivência\, a solidariedade e a inclusão.&nbsp\;O formato da participa
 ção neste desafio é livre e ao critério de cada entidade\, sendo uma d
 as sugestões da Rede Internacional a realização de oficinas onde cada c
 idadão pode\, por exemplo\, escrever as oportunidades oferecidas pela Cid
 ade Educadora em pétalas de flores para fazer um mural com flores e pomba
 s da paz (materiais nos links abaixo).O objetivo das atividades deverá se
 r contribuir para a reflexão sobre o paralelismo entre as sementes e as o
 portunidades que a cidade oferece\, bem como a importância de cultivar a 
 paz e a boa convivência\, à luz de três princípios da Carta das Cidade
 s Educadoras (Diversidade e não discriminação/ Diálogo Intergeracional
 / Promoção do associativismo e do voluntariado).&nbsp\;Poderão descarre
 gar o guia e os respetivos materiais nos links abaixo: &nbsp\;https://www.
 edcities.org/dia-internacional-pt-2022/imagem-grafica/ &nbsp\;https://www.
 edcities.org/dia-internacional-pt-2022/guia/ &nbsp\;
X-MICROSOFT-CDO-ALLDAYEVENT:TRUE
DTSTAMP:20260423T224416Z
END:VEVENT
END:VCALENDAR