BEGIN:VCALENDAR
VERSION:2.0
PRODID:Quinta-feira da Ascensão
X-WR-CALNAME:Quinta-feira da Ascensão
X-WR-TIMEZONE:Europe/Lisbon
X-PUBLISHED-TTL:P1W
BEGIN:VTIMEZONE
TZID:Europe/Lisbon
X-LIC-LOCATION:Europe/Lisbon
END:VTIMEZONE
BEGIN:VEVENT
UID:69ebb2c977b87
DTSTART;VALUE=DATE:20260514
SEQUENCE:0
TRANSP:OPAQUE
DTEND;VALUE=DATE:20260515
SUMMARY:Quinta-feira da Ascensão
CLASS:PUBLIC
DESCRIPTION:Quinta-feira da Ascensão\, também conhecida como quinta-feira
  da Espiga.&nbsp\;
X-MICROSOFT-CDO-ALLDAYEVENT:TRUE
DTSTAMP:20260424T181329Z
END:VEVENT
END:VCALENDAR