BEGIN:VCALENDAR
VERSION:2.0
PRODID:Implantação da República
X-WR-CALNAME:Implantação da República
X-WR-TIMEZONE:Europe/Lisbon
X-PUBLISHED-TTL:P1W
BEGIN:VTIMEZONE
TZID:Europe/Lisbon
X-LIC-LOCATION:Europe/Lisbon
END:VTIMEZONE
BEGIN:VEVENT
UID:69e74b36ee30d
DTSTART;VALUE=DATE:20261005
SEQUENCE:0
TRANSP:OPAQUE
DTEND;VALUE=DATE:20261006
SUMMARY:Implantação da República
CLASS:PUBLIC
DESCRIPTION:O feriado de 5 de outubro é a Implantação da República\, qu
 e celebra a revolução a revolução de 1910 que pôs fim à monarquia po
 rtuguesa e instaurou a república. A proclamação oficial ocorreu nas var
 andas da Câmara Municipal de Lisboa a 5 de outubro de 1910\, após uma re
 volução que derrubou a monarquia. 
X-MICROSOFT-CDO-ALLDAYEVENT:TRUE
DTSTAMP:20260421T100230Z
END:VEVENT
END:VCALENDAR