BEGIN:VCALENDAR
VERSION:2.0
PRODID:Campanha da Cal 2022
X-WR-CALNAME:Campanha da Cal 2022
X-WR-TIMEZONE:Europe/Lisbon
X-PUBLISHED-TTL:P1W
BEGIN:VTIMEZONE
TZID:Europe/Lisbon
X-LIC-LOCATION:Europe/Lisbon
END:VTIMEZONE
BEGIN:VEVENT
UID:69e74be793d22
DTSTART;VALUE=DATE:20220801
SEQUENCE:0
TRANSP:OPAQUE
DTEND;VALUE=DATE:20220802
SUMMARY:Campanha da Cal 2022
CLASS:PUBLIC
DESCRIPTION:Campanha da Cal - Agosto e Setembro&nbsp\;
X-MICROSOFT-CDO-ALLDAYEVENT:TRUE
DTSTAMP:20260421T100527Z
END:VEVENT
END:VCALENDAR